BEGIN:VCALENDAR
VERSION:2.0
PRODID:-//Kalajoen Kristillinen Opisto - ECPv6.15.20//NONSGML v1.0//EN
CALSCALE:GREGORIAN
METHOD:PUBLISH
X-WR-CALNAME:Kalajoen Kristillinen Opisto
X-ORIGINAL-URL:https://kkro.fi
X-WR-CALDESC:Tapahtumat Kalajoen Kristillinen Opisto
REFRESH-INTERVAL;VALUE=DURATION:PT1H
X-Robots-Tag:noindex
X-PUBLISHED-TTL:PT1H
BEGIN:VTIMEZONE
TZID:Europe/Helsinki
BEGIN:DAYLIGHT
TZOFFSETFROM:+0200
TZOFFSETTO:+0300
TZNAME:EEST
DTSTART:20260329T010000
END:DAYLIGHT
BEGIN:STANDARD
TZOFFSETFROM:+0300
TZOFFSETTO:+0200
TZNAME:EET
DTSTART:20261025T010000
END:STANDARD
BEGIN:DAYLIGHT
TZOFFSETFROM:+0200
TZOFFSETTO:+0300
TZNAME:EEST
DTSTART:20270328T010000
END:DAYLIGHT
BEGIN:STANDARD
TZOFFSETFROM:+0300
TZOFFSETTO:+0200
TZNAME:EET
DTSTART:20271031T010000
END:STANDARD
BEGIN:DAYLIGHT
TZOFFSETFROM:+0200
TZOFFSETTO:+0300
TZNAME:EEST
DTSTART:20280326T010000
END:DAYLIGHT
BEGIN:STANDARD
TZOFFSETFROM:+0300
TZOFFSETTO:+0200
TZNAME:EET
DTSTART:20281029T010000
END:STANDARD
END:VTIMEZONE
BEGIN:VEVENT
DTSTART;VALUE=DATE:20270118
DTEND;VALUE=DATE:20270123
DTSTAMP:20260424T220541
CREATED:20250819T084123Z
LAST-MODIFIED:20251028T115631Z
UID:10000463-1800230400-1800662399@kkro.fi
SUMMARY:Erasmus+ training course: Challenges and Opportunities in the Integration of Adult Immigrants - Nordic Experiences
DESCRIPTION:Would you like to try how it feels to move to a new country? Would you like to experience Finnish winter challenges and opportunities in the snowy darkness when you might also see aurora borealis?   \nIn this course we will learn and discuss about culture\, cultural awareness and differences. We try to understand the differences between different cultures and deal with them. We will focus on adults’ education and integration. We will learn about how we can integrate migrants with different background (age\, religion\, language skills etc.) and how we can promote the successful integration in our society.    \nWe will speak about the relevance of learning new language through native language. We will learn how second language teaching includes motivating and encouraging students to use Finnish also outside of the classroom. We will handle our topics in practice and all participants work together actively (for example in pairs\, teams) and change ideas and experiences with others. We will think about how we can support and motivate adults and promote wellbeing of migrants and migrant families. \nThe course is designed to fullfill the quality standards and other criteria of a Erasmus+ KA1 Training Course for staff in the fields of Adult education\, Vocational education and training\, School education or Youth. \nMain aims\n\nunderstand the cultural differences and successfully deal with them \nunderstand how integrate migrants well and share best practises  \nunderstand what adapting means in different countries and societies\n\nMethodology of the course\n\nactive involvement of the participants \ntheory – practice – feedback/review \n\nThe course is ideal for\n\nSchool principals & directors (secondary\, adult education) \nTeachers (secondary\, adult education) \nEducational Advisors \nCommunity leaders \nCommunity workers \nSocial workers \nCivil organisation staff \nSchool Counsellors and Support Staff \n\nTeachers\n \nRegina Németh\, PhD \nI am a Finnish as a second language teacher who teaches adult immigrants at Kalajoki Christian College since 2018. I have been working with immigrants more than 14 years.   \nI am also a Hungarian language and literature teacher and Ethics teacher. \n \nAnne Wallin-Annala\, MSc \nI have been working in Kalajoki Christian College since 2004 as an English and Physical Education teacher and VET Erasmus+ coordinator. I teach in both vocational education and basic education. I have been working with immigrant students for more than ten years.  \nPrices\nCourse fee \n\n400 €\n\nAccommodation from Sun 17.1. until Fri 22.1. in our comfortable and beautiful student dormitory Toivola: see https://kkro.fi/tilat/ \n\nin a single room 375 €/person\nin a shared double room 250 €/person\n\nFood package Mon-Fri including daily breakfast\, lunch and afternoon coffee \n\n125 €/person\n\nEnrollment\nUse the link: Enrollment to the course Challenges and Opportunities in the Integration of Adult Immigrants – Nordic Experiences \nAfter enrollment you will receive an invoice in your email. You will confirm your participation by payment. After confirmation the participation can’t be canceled.
URL:https://kkro.fi/kurssit/erasmus-training-course-challenges-and-opportunities-in-the-integration-of-adult-immigrants-nordic-experiences/
LOCATION:Kalajoen Kristillinen Opisto\, Kasarmintie 2\, Kalajoki\, 85100
CATEGORIES:Erasmus+ training courses
ATTACH;FMTTYPE=image/jpeg:https://kkro.fi/wp-content/uploads/2025/08/IMG-20241109-WA0009-e1755862027106.jpg
ORGANIZER;CN="Kalajoen Kristillinen Opisto":MAILTO:toimisto@kkro.fi
GEO:64.2577862;23.9472648
X-APPLE-STRUCTURED-LOCATION;VALUE=URI;X-ADDRESS=Kalajoen Kristillinen Opisto Kasarmintie 2 Kalajoki 85100;X-APPLE-RADIUS=500;X-TITLE=Kasarmintie 2:geo:23.9472648,64.2577862
END:VEVENT
END:VCALENDAR